BEGIN:VCALENDAR
VERSION:2.0
PRODID:-//Library Market//iCal Export//EN
BEGIN:VEVENT
SUMMARY:Exam (1-2 hour length)
UID:34206
DTSTAMP:20260424T081800Z
DTSTART:20260331T184500Z
DTEND:20260331T194500Z
LOCATION:Ashland Public Library, 224 Claremont Ave, Ashland, OH 44805, Uni
 ted States
ROOM: Study Room
DESCRIPTION:
URL:https://ashland.librarycalendar.com/index.php/event/exam-1-2-hour-leng
 th-34206
END:VEVENT
END:VCALENDAR
