BEGIN:VCALENDAR
VERSION:2.0
PRODID:-//Library Market//iCal Export//EN
BEGIN:VEVENT
SUMMARY:Study Session
UID:34407
DTSTAMP:20260424T235700Z
DTSTART:20260329T170000Z
DTEND:20260329T193000Z
LOCATION:Ashland Public Library, 224 Claremont Ave, Ashland, OH 44805, Uni
 ted States
ROOM: Study Room
DESCRIPTION:
URL:https://ashland.librarycalendar.com/index.php/event/study-session-3440
 7
END:VEVENT
END:VCALENDAR
