BEGIN:VCALENDAR
VERSION:2.0
PRODID:-//Library Market//iCal Export//EN
BEGIN:VEVENT
SUMMARY:Tutoring
UID:34943
DTSTAMP:20260422T072300Z
DTSTART:20260416T204500Z
DTEND:20260416T214500Z
LOCATION:Ashland Public Library, 224 Claremont Ave, Ashland, OH 44805, Uni
 ted States
ROOM: Study Room
DESCRIPTION:
URL:https://ashland.librarycalendar.com/index.php/event/tutoring-34943
END:VEVENT
END:VCALENDAR
