BEGIN:VCALENDAR
VERSION:2.0
PRODID:-//Library Market//iCal Export//EN
BEGIN:VEVENT
SUMMARY:Nadia Solomon
UID:35034
DTSTAMP:20260423T071400Z
DTSTART:20260423T130000Z
DTEND:20260423T174500Z
LOCATION:Ashland Public Library, 224 Claremont Ave, Ashland, OH 44805, Uni
 ted States
ROOM: Study Room
DESCRIPTION:
URL:https://ashland.librarycalendar.com/index.php/event/nadia-solomon-3503
 4
END:VEVENT
END:VCALENDAR
