BEGIN:VCALENDAR
VERSION:2.0
PRODID:-//Library Market//iCal Export//EN
BEGIN:VEVENT
SUMMARY:Ohio Connections Academy State Testing
UID:35115
DTSTAMP:20260423T224700Z
DTSTART:20260424T160000Z
DTEND:20260424T190000Z
LOCATION:Ashland Public Library, 224 Claremont Ave, Ashland, OH 44805, Uni
 ted States
ROOM: Study Room
DESCRIPTION:
URL:https://ashland.librarycalendar.com/index.php/event/ohio-connections-a
 cademy-state-testing-35115
END:VEVENT
END:VCALENDAR
