BEGIN:VCALENDAR
VERSION:2.0
PRODID:-//Library Market//iCal Export//EN
BEGIN:VEVENT
SUMMARY:OHDELA
UID:35020
DTSTAMP:20260423T071400Z
DTSTART:20260420T141500Z
DTEND:20260420T170000Z
LOCATION:Ashland Public Library, 224 Claremont Ave, Ashland, OH 44805, Uni
 ted States
ROOM: Page Room
DESCRIPTION:
URL:https://ashland.librarycalendar.com/event/ohdela-35020
END:VEVENT
END:VCALENDAR
