BEGIN:VCALENDAR
VERSION:2.0
PRODID:-//Library Market//iCal Export//EN
BEGIN:VEVENT
SUMMARY:Meeting
UID:35022
DTSTAMP:20260423T071400Z
DTSTART:20260421T140000Z
DTEND:20260421T190000Z
LOCATION:Ashland Public Library, 224 Claremont Ave, Ashland, OH 44805, Uni
 ted States
ROOM: Stockwell Room
DESCRIPTION:
URL:https://ashland.librarycalendar.com/event/meeting-35022
END:VEVENT
END:VCALENDAR
