BEGIN:VCALENDAR
VERSION:2.0
PRODID:-//Library Market//iCal Export//EN
BEGIN:VEVENT
SUMMARY:State Testing
UID:35113
DTSTAMP:20260422T074100Z
DTSTART:20260428T163000Z
DTEND:20260428T180000Z
LOCATION:Ashland Public Library, 224 Claremont Ave, Ashland, OH 44805, Uni
 ted States
ROOM: Study Room
DESCRIPTION:
URL:https://ashland.librarycalendar.com/event/state-testing-35113
END:VEVENT
END:VCALENDAR
